﻿BEGIN:VCALENDAR
VERSION:2.0
PRODID:-//wp-events-plugin.com//7.1.7//EN
TZID:Europe/London
X-WR-TIMEZONE:Europe/London
BEGIN:VEVENT
UID:127@web.sheffieldlive.org
DTSTART;TZID=Europe/London:20191105T173000
DTEND;TZID=Europe/London:20191105T220000
DTSTAMP:20190410T151425Z
URL:https://web.sheffieldlive.org/events/after-dark-yorkshires-biggest-fir
 ework-spectacular/
SUMMARY:After Dark\, Yorkshire\\'s biggest firework spectacular!
DESCRIPTION:Held every year at Don Valley Bowl\, After Dark Firework Specta
 cular plays host to a whopping 20\,000 spectators.\n\nIn 2019 After Dark w
 ill be hosting a Hallam FM stage\, a giant bonfire\, a funfair\, fire spin
 ners\, food stalls\, face painting and of course the legendary firework di
 splay set to music.\n\nEvent Details\nDate: Tuesday 5th November 2019\nVen
 ue: Don Valley Grass Bowl (Next to Sheffield Arena – S9 2DF)\nTimes: 5.3
 0pm till 10pm. Bonfire lit 7:30 pm &amp\; Fireworks to music 9pm\n\nWhat
 ’s On: Hallam FM stage\, Bonfire\, Food Stalls\, Giant Funfair\, Fire Sp
 inners\, Face Painting &amp\; Fireworks set to music\n\nTicket Details\nTi
 ckets can be bought online (www.afterdarkfireworks.com):\n\nAdvance ticket
  price (before midnight on 4th Nov): Adults (12yrs+) £12\, Children (Unde
 r 12) £6\, Under 3's Free.\n\nEvent day ticket price (after midnight on 4
 th Nov): Adults (12yrs+) £14\, Children (Under 12) £7\, Under 3's Free.\
 n\nTickets will also be available to buy on the night from ticket booths (
 CASH only)\n\n*No booking fees apply!*\n\nProgram of events:\n5.30pm – O
 pening\n7.30pm – Bonfire lit\n9.00pm – Fireworks set off to music\n10.
 00pm – Event closes\n\nCar parking at Sheffield Arena (next door). Don V
 alley Grass Bowl can also be accessed via Supertram. The Arena/Don Valley 
 Stadium stop is located just a stone’s throw from the event site. More t
 rams are provided on the night of the After Dark event.\n\nThe event is st
 aged at the purpose built Don Valley Grass Bowl (Sheffield\, S9 2DF) which
  is easily accessible from junction 34 of the M1.\n\nFind more at: www.aft
 erdarkfireworks.com
LOCATION:Don Valley Grass Bowl\, Don Valley Grass Bowl\, Sheffield\, South 
 Yorkshire\, S9 2DF\, United Kingdom
GEO:53.492;-1.1330000000000382
X-APPLE-STRUCTURED-LOCATION;VALUE=URI;X-ADDRESS=Don Valley Grass Bowl\, She
 ffield\, South Yorkshire\, S9 2DF\, United Kingdom;X-APPLE-RADIUS=100;X-TI
 TLE=Don Valley Grass Bowl:geo:53.492,-1.1330000000000382
END:VEVENT
BEGIN:VTIMEZONE
TZID:Europe/London
X-LIC-LOCATION:Europe/London
BEGIN:STANDARD
DTSTART:20191027T010000
TZOFFSETFROM:+0100
TZOFFSETTO:+0000
TZNAME:GMT
END:STANDARD
END:VTIMEZONE
END:VCALENDAR